BEGIN:VCALENDAR
VERSION:2.0
PRODID:-//RODGAU MONOTONES - ECPv6.0.13.1//NONSGML v1.0//EN
CALSCALE:GREGORIAN
METHOD:PUBLISH
X-ORIGINAL-URL:https://rodgau-monotones.de
X-WR-CALDESC:Veranstaltungen fÃ¼r RODGAU MONOTONES
REFRESH-INTERVAL;VALUE=DURATION:PT1H
X-Robots-Tag:noindex
X-PUBLISHED-TTL:PT1H
BEGIN:VTIMEZONE
TZID:Europe/Berlin
BEGIN:DAYLIGHT
TZOFFSETFROM:+0100
TZOFFSETTO:+0200
TZNAME:CEST
DTSTART:20260329T010000
END:DAYLIGHT
BEGIN:STANDARD
TZOFFSETFROM:+0200
TZOFFSETTO:+0100
TZNAME:CET
DTSTART:20261025T010000
END:STANDARD
BEGIN:DAYLIGHT
TZOFFSETFROM:+0100
TZOFFSETTO:+0200
TZNAME:CEST
DTSTART:20270328T010000
END:DAYLIGHT
BEGIN:STANDARD
TZOFFSETFROM:+0200
TZOFFSETTO:+0100
TZNAME:CET
DTSTART:20271031T010000
END:STANDARD
END:VTIMEZONE
BEGIN:VEVENT
DTSTART;TZID=Europe/Berlin:20260430T213000
DTEND;TZID=Europe/Berlin:20260430T233000
DTSTAMP:20260424T100322
CREATED:20250607T115955Z
LAST-MODIFIED:20250927T114437Z
UID:4515-1777584600-1777591800@rodgau-monotones.de
SUMMARY:64560 Riedstadt\,  Heinrich Bonn Halle Leeheim
DESCRIPTION:  \nEinlass ab 20.00 Uhr
URL:https://rodgau-monotones.de/event/64560-riedstadt-heinrich-bonn-halle-leeheim/
CATEGORIES:Live Shows
END:VEVENT
BEGIN:VEVENT
DTSTART;TZID=Europe/Berlin:20260515T200000
DTEND;TZID=Europe/Berlin:20260515T233000
DTSTAMP:20260424T100322
CREATED:20250927T113400Z
LAST-MODIFIED:20250927T113400Z
UID:4569-1778875200-1778887800@rodgau-monotones.de
SUMMARY:60439 Frankfurt Himmelfahrts-Festival Burghof HÃ¼hnerstall
DESCRIPTION:Open AirÂ  Burghof HÃ¼hnerstallÂ  cool \, kommt vorbei
URL:https://rodgau-monotones.de/event/60439-frankfurt-himmelfahrts-festival-burghof-huehnerstall/
CATEGORIES:Live Shows
END:VEVENT
BEGIN:VEVENT
DTSTART;TZID=Europe/Berlin:20260523T200000
DTEND;TZID=Europe/Berlin:20260523T213000
DTSTAMP:20260424T100322
CREATED:20251219T113731Z
LAST-MODIFIED:20251219T113731Z
UID:4591-1779566400-1779571800@rodgau-monotones.de
SUMMARY:63329 Egelsbach Saalbau
DESCRIPTION:Saalbau Egelsbach
URL:https://rodgau-monotones.de/event/63329-egelsbach-saalbau/
CATEGORIES:Live Shows
END:VEVENT
BEGIN:VEVENT
DTSTART;TZID=Europe/Berlin:20260605T200000
DTEND;TZID=Europe/Berlin:20260605T220000
DTSTAMP:20260424T100322
CREATED:20260106T131014Z
LAST-MODIFIED:20260106T131259Z
UID:4602-1780689600-1780696800@rodgau-monotones.de
SUMMARY:69469 Weinheim
DESCRIPTION:Open Air BÃ¼hne-Schlosshof \n 
URL:https://rodgau-monotones.de/event/69469-weinheim/
CATEGORIES:Live Shows
END:VEVENT
BEGIN:VEVENT
DTSTART;TZID=Europe/Berlin:20260606T193000
DTEND;TZID=Europe/Berlin:20260606T230000
DTSTAMP:20260424T100322
CREATED:20220710T123826Z
LAST-MODIFIED:20251103T144547Z
UID:2937-1780774200-1780786800@rodgau-monotones.de
SUMMARY:65510 Idstein  Scheuer
DESCRIPTION:
URL:https://rodgau-monotones.de/event/65510-idstein-scheuer/
CATEGORIES:Live Shows
END:VEVENT
BEGIN:VEVENT
DTSTART;TZID=Europe/Berlin:20260815T213000
DTEND;TZID=Europe/Berlin:20260815T233000
DTSTAMP:20260424T100322
CREATED:20260106T130547Z
LAST-MODIFIED:20260106T130547Z
UID:4599-1786829400-1786836600@rodgau-monotones.de
SUMMARY:64846 Gr. Zimmern
DESCRIPTION:Kerb in Gr. Zimmern Open Air
URL:https://rodgau-monotones.de/event/64846-gr-zimmern/
CATEGORIES:Live Shows
END:VEVENT
BEGIN:VEVENT
DTSTART;TZID=Europe/Berlin:20261212T190000
DTEND;TZID=Europe/Berlin:20261212T223000
DTSTAMP:20260424T100322
CREATED:20250505T135901Z
LAST-MODIFIED:20260413T180152Z
UID:4512-1797102000-1797114600@rodgau-monotones.de
SUMMARY:63739 Aschaffenburg Colos-Saal
DESCRIPTION:VVK ab 12 Uhr 14.04.2026 \nhttps://colos-saal.reservix.de/p/reservix/event/2553455
URL:https://rodgau-monotones.de/event/63739-aschaffenburg-colos-saal/
CATEGORIES:Live Shows
END:VEVENT
BEGIN:VEVENT
DTSTART;TZID=Europe/Berlin:20261226T200000
DTEND;TZID=Europe/Berlin:20261226T230000
DTSTAMP:20260424T100322
CREATED:20230515T121513Z
LAST-MODIFIED:20260106T125308Z
UID:3790-1798315200-1798326000@rodgau-monotones.de
SUMMARY:60388 Frankfurt/M. Batschkapp
DESCRIPTION:Batschkapp \nhttps://batschkapp.net/events/rodgau-monotones-frankfurt-batschkapp-2025-12-26-200000 \nhttps://batschkapp.reservix.de/p/reservix/event/2241471
URL:https://rodgau-monotones.de/event/60388-frankfurt-m/
CATEGORIES:Live Shows
END:VEVENT
BEGIN:VEVENT
DTSTART;TZID=Europe/Berlin:20270205T200000
DTEND;TZID=Europe/Berlin:20270205T220000
DTSTAMP:20260424T100322
CREATED:20220710T123711Z
LAST-MODIFIED:20260106T125409Z
UID:2935-1801857600-1801864800@rodgau-monotones.de
SUMMARY:64625 Bensheim REX
DESCRIPTION:
URL:https://rodgau-monotones.de/event/64625-bensheim-rex/
CATEGORIES:Live Shows
END:VEVENT
END:VCALENDAR